BEGIN:VCALENDAR
VERSION:2.0
PRODID:-//TYPO3/NONSGML Calendarize//EN
BEGIN:VEVENT
UID:calendarize-tag-der-offenen-tuer-im-diakonie-hospiz-wannsee
DTSTAMP:20260424T135753Z
DTSTART:20260607T090000Z
DTEND:20260607T133000Z
SUMMARY:Tag der offenen Tür im Diakonie Hospiz Wannsee
DESCRIPTION:Wiedereröffnung nach Generalsanierung und Erweiterung des sta
 tionären Hospizes
X-ALT-DESC;FMTTYPE=text/html:<p>Wiedereröffnung nach Generalsanierung und
  Erweiterung des stationären Hospizes</p>
LOCATION:Diakonie Hospiz Wannsee
END:VEVENT
END:VCALENDAR
